BEGIN:VCALENDAR
CALSCALE:GREGORIAN
X-WR-TIMEZONE;VALUE=TEXT:GMT
PRODID:PEAK Corporation - piCal -
X-WR-CALNAME;VALUE=TEXT:（KSC)　中濃水泳記録会
VERSION:2.0
METHOD:PUBLISH
BEGIN:VTIMEZONE
TZID:GMT
BEGIN:STANDARD
DTSTART:19390101T000000
TZOFFSETFROM:+0000
TZOFFSETTO:+0000
TZNAME:GMT
END:STANDARD
END:VTIMEZONE
BEGIN:VEVENT
DTSTART:20100801T000000Z
DTEND:20100801T080000Z
LOCATION:中池公園プール
TRANSP:OPAQUE
SEQUENCE:0
UID:pical060-fbb1f8f79a9386ae46b916ea86b061e5
DTSTAMP:20100804T080334Z
CATEGORIES:学校関連（小中）,キウイスポーツクラブ,関市洞戸運動公園
DESCRIPTION:
SUMMARY:（KSC)　中濃水泳記録会
PRIORITY:0
CLASS:PUBLIC
END:VEVENT
END:VCALENDAR
