BEGIN:VCALENDAR
CALSCALE:GREGORIAN
X-WR-TIMEZONE;VALUE=TEXT:GMT
PRODID:PEAK Corporation - piCal -
X-WR-CALNAME;VALUE=TEXT:自治連洞戸支部　自治会長会議
VERSION:2.0
METHOD:PUBLISH
BEGIN:VTIMEZONE
TZID:GMT
BEGIN:STANDARD
DTSTART:19390101T000000
TZOFFSETFROM:+0000
TZOFFSETTO:+0000
TZNAME:GMT
END:STANDARD
END:VTIMEZONE
BEGIN:VEVENT
DTSTART:20100806T103000Z
DTEND:20100806T120000Z
LOCATION:洞戸生涯学習センター
TRANSP:OPAQUE
SEQUENCE:0
UID:pical060-26bed6f3b404d4a5c7d9a60e24fcc704
DTSTAMP:20100804T080921Z
CATEGORIES:ほらどまちづくり委員会,学習センター
DESCRIPTION:協議事項　１）洞戸地区敬老会について\n　　　　　２）民生委員候補者選人状況について
SUMMARY:自治連洞戸支部　自治会長会議
PRIORITY:0
CLASS:PUBLIC
END:VEVENT
END:VCALENDAR
