BEGIN:VCALENDAR
CALSCALE:GREGORIAN
X-WR-TIMEZONE;VALUE=TEXT:GMT
PRODID:PEAK Corporation - piCal -
X-WR-CALNAME;VALUE=TEXT:(KSC)　運動公園グラウンド整備
VERSION:2.0
METHOD:PUBLISH
BEGIN:VTIMEZONE
TZID:GMT
BEGIN:STANDARD
DTSTART:19390101T000000
TZOFFSETFROM:+0000
TZOFFSETTO:+0000
TZNAME:GMT
END:STANDARD
END:VTIMEZONE
BEGIN:VEVENT
DTSTART:20100808T000000Z
DTEND:20100808T080000Z
LOCATION:洞戸運動公園
TRANSP:OPAQUE
SEQUENCE:0
UID:pical060-8b3ea5b36e89b501797a79bc41e2c393
DTSTAMP:20100804T081012Z
CATEGORIES:
DESCRIPTION:
SUMMARY:(KSC)　運動公園グラウンド整備
PRIORITY:0
CLASS:PUBLIC
END:VEVENT
END:VCALENDAR
