BEGIN:VCALENDAR
CALSCALE:GREGORIAN
X-WR-TIMEZONE;VALUE=TEXT:GMT
PRODID:PEAK Corporation - piCal -
X-WR-CALNAME;VALUE=TEXT:第5回　郷土展望（講師：野村）
VERSION:2.0
METHOD:PUBLISH
BEGIN:VTIMEZONE
TZID:GMT
BEGIN:STANDARD
DTSTART:19390101T000000
TZOFFSETFROM:+0000
TZOFFSETTO:+0000
TZNAME:GMT
END:STANDARD
END:VTIMEZONE
BEGIN:VEVENT
DTSTART:20100821T100000Z
DTEND:20100821T110000Z
LOCATION:洞戸生涯学習センター
TRANSP:OPAQUE
SEQUENCE:3
UID:pical060-0a2c92386b8950c74eda76e01051a54a
DTSTAMP:20100816T225651Z
CATEGORIES:洞戸村ふるさと塾,ほらどまちづくり委員会
DESCRIPTION:第５回の講演は洞戸飛瀬でブルーベリー農園経営者・野村久良氏です。\n\n
SUMMARY:第5回　郷土展望（講師：野村）
PRIORITY:0
CLASS:PUBLIC
END:VEVENT
END:VCALENDAR
