BEGIN:VCALENDAR
CALSCALE:GREGORIAN
X-WR-TIMEZONE;VALUE=TEXT:GMT
PRODID:PEAK Corporation - piCal -
X-WR-CALNAME;VALUE=TEXT:（KSC)　夏季野球大会
VERSION:2.0
METHOD:PUBLISH
BEGIN:VTIMEZONE
TZID:GMT
BEGIN:STANDARD
DTSTART:19390101T000000
TZOFFSETFROM:+0000
TZOFFSETTO:+0000
TZNAME:GMT
END:STANDARD
END:VTIMEZONE
BEGIN:VEVENT
DTSTART:20100805T073000Z
DTEND:20100805T123000Z
LOCATION:洞戸中学校グラウンド
TRANSP:OPAQUE
SEQUENCE:0
UID:pical060-afdf451f0448f0c5645f8edd260ea550
DTSTAMP:20100804T083618Z
CATEGORIES:学校関連（小中）,キウイスポーツクラブ,関市洞戸運動公園
DESCRIPTION:春季大会が終了し、次なる夏季大会が始まります。\n夏季大会は７チームによるトーナメント戦です。
SUMMARY:（KSC)　夏季野球大会
PRIORITY:0
CLASS:PUBLIC
END:VEVENT
END:VCALENDAR
