BEGIN:VCALENDAR
CALSCALE:GREGORIAN
X-WR-TIMEZONE;VALUE=TEXT:GMT
PRODID:PEAK Corporation - piCal -
X-WR-CALNAME;VALUE=TEXT:サマーキッズクラブ（スイーツづくり）
VERSION:2.0
METHOD:PUBLISH
BEGIN:VTIMEZONE
TZID:GMT
BEGIN:STANDARD
DTSTART:19390101T000000
TZOFFSETFROM:+0000
TZOFFSETTO:+0000
TZNAME:GMT
END:STANDARD
END:VTIMEZONE
BEGIN:VEVENT
DTSTART:20100820T010000Z
DTEND:20100820T030000Z
LOCATION:洞戸生涯学習センター
TRANSP:OPAQUE
SEQUENCE:0
UID:pical060-02889b232b663a1c7e54f801c14ef1b2
DTSTAMP:20100804T085502Z
CATEGORIES:
DESCRIPTION:夏のひんやりお菓子づくりをします。\n\n参加費は２００円（材料代）・・・参加申込時に入金下さい。\nエプロンを忘れずに。\n\n申込は洞戸生涯学習センターまで
SUMMARY:サマーキッズクラブ（スイーツづくり）
PRIORITY:0
CLASS:PUBLIC
END:VEVENT
END:VCALENDAR
