BEGIN:VCALENDAR
CALSCALE:GREGORIAN
X-WR-TIMEZONE;VALUE=TEXT:GMT
PRODID:PEAK Corporation - piCal -
X-WR-CALNAME;VALUE=TEXT:(KSC）　定例理事会
VERSION:2.0
METHOD:PUBLISH
BEGIN:VTIMEZONE
TZID:GMT
BEGIN:STANDARD
DTSTART:19390101T000000
TZOFFSETFROM:+0000
TZOFFSETTO:+0000
TZNAME:GMT
END:STANDARD
END:VTIMEZONE
BEGIN:VEVENT
DTSTART:20100828T100000Z
DTEND:20100828T120000Z
LOCATION:洞戸運動公園管理棟
TRANSP:OPAQUE
SEQUENCE:0
UID:pical060-141feeeabb6fa99970a19f9ee8435b4a
DTSTAMP:20100804T090310Z
CATEGORIES:キウイスポーツクラブ,関市洞戸運動公園
DESCRIPTION:
SUMMARY:(KSC）　定例理事会
PRIORITY:0
CLASS:PUBLIC
END:VEVENT
END:VCALENDAR
