BEGIN:VCALENDAR
CALSCALE:GREGORIAN
X-WR-TIMEZONE;VALUE=TEXT:GMT
PRODID:PEAK Corporation - piCal -
X-WR-CALNAME;VALUE=TEXT:地域ふくし懇談会打ち合わせ
VERSION:2.0
METHOD:PUBLISH
BEGIN:VTIMEZONE
TZID:GMT
BEGIN:STANDARD
DTSTART:19390101T000000
TZOFFSETFROM:+0000
TZOFFSETTO:+0000
TZNAME:GMT
END:STANDARD
END:VTIMEZONE
BEGIN:VEVENT
DTSTART:20100825T103000Z
DTEND:20100825T123000Z
LOCATION:洞戸基幹集落センター・第２集会室
TRANSP:OPAQUE
SEQUENCE:1
UID:pical060-7ac9a4d175e7685a428b7de5b8a1c71d
DTSTAMP:20100822T035722Z
CATEGORIES:社協　洞戸支部
DESCRIPTION:
SUMMARY:地域ふくし懇談会打ち合わせ
PRIORITY:0
CLASS:PUBLIC
END:VEVENT
END:VCALENDAR
