BEGIN:VCALENDAR
CALSCALE:GREGORIAN
X-WR-TIMEZONE;VALUE=TEXT:GMT
PRODID:PEAK Corporation - piCal -
X-WR-CALNAME;VALUE=TEXT:地域ふくし懇談会
VERSION:2.0
METHOD:PUBLISH
BEGIN:VTIMEZONE
TZID:GMT
BEGIN:STANDARD
DTSTART:19390101T000000
TZOFFSETFROM:+0000
TZOFFSETTO:+0000
TZNAME:GMT
END:STANDARD
END:VTIMEZONE
BEGIN:VEVENT
DTSTART:20100903T103000Z
DTEND:20100903T123000Z
LOCATION:洞戸基幹集落センター・２F集会室
TRANSP:OPAQUE
SEQUENCE:2
UID:pical060-d1cc952f0313f326b8e4bbde0bf95d65
DTSTAMP:20100822T040004Z
CATEGORIES:社協　洞戸支部
DESCRIPTION:課題\n・子供を地域で守り育てるために\n・高齢者・弱者が地域で安心して生活するために\n・緊急時・災害時に備えての体制づくりについて
SUMMARY:地域ふくし懇談会
PRIORITY:0
CLASS:PUBLIC
END:VEVENT
END:VCALENDAR
