BEGIN:VCALENDAR
CALSCALE:GREGORIAN
X-WR-TIMEZONE;VALUE=TEXT:GMT
PRODID:PEAK Corporation - piCal -
X-WR-CALNAME;VALUE=TEXT:洞戸地域バス運営協議会
VERSION:2.0
METHOD:PUBLISH
BEGIN:VTIMEZONE
TZID:GMT
BEGIN:STANDARD
DTSTART:19390101T000000
TZOFFSETFROM:+0000
TZOFFSETTO:+0000
TZNAME:GMT
END:STANDARD
END:VTIMEZONE
BEGIN:VEVENT
DTSTART:20100817T103000Z
DTEND:20100817T120000Z
LOCATION:洞戸生涯学習センター
TRANSP:OPAQUE
SEQUENCE:0
UID:pical060-6ece27f9d01c45e402a3837ff75de02e
DTSTAMP:20100816T223319Z
CATEGORIES:ほらどまちづくり委員会
DESCRIPTION:・実績報告\n・課題と今後の展開について\nほか
SUMMARY:洞戸地域バス運営協議会
PRIORITY:0
CLASS:PUBLIC
END:VEVENT
END:VCALENDAR
