BEGIN:VCALENDAR
CALSCALE:GREGORIAN
X-WR-TIMEZONE;VALUE=TEXT:GMT
PRODID:PEAK Corporation - piCal -
X-WR-CALNAME;VALUE=TEXT:食改交流会
VERSION:2.0
METHOD:PUBLISH
BEGIN:VTIMEZONE
TZID:GMT
BEGIN:STANDARD
DTSTART:19390101T000000
TZOFFSETFROM:+0000
TZOFFSETTO:+0000
TZNAME:GMT
END:STANDARD
END:VTIMEZONE
BEGIN:VEVENT
DTSTART:20101201T003000Z
DTEND:20101201T030000Z
LOCATION:洞戸生涯学習センター調理室
TRANSP:OPAQUE
SEQUENCE:2
UID:pical060-385e89d585a690f7a943ab68b0742f28
DTSTAMP:20101205T072957Z
CATEGORIES:
DESCRIPTION:今年も乳幼児を持つお母さんと一緒に調理をし交流をします。会員の方の参加をお願いします。\n　御協力ありがとうございました。お母さん８名、幼児６名、会員１０名、支援員４名、コーディネイト１名で無事終えることができました。昨年は子守の方に多く人数が割かれたのですが、今年は支援の方があり一緒に料理作りが出来ました。メニューはお楽しみホイルつつみ\n、簡単ポタージュ、コロコロうさぎ、ご飯でケーキでした。どのグル-プも和気あいあいにお料理ができました。
SUMMARY:食改交流会
PRIORITY:0
CLASS:PUBLIC
END:VEVENT
END:VCALENDAR
