BEGIN:VCALENDAR
CALSCALE:GREGORIAN
X-WR-TIMEZONE;VALUE=TEXT:GMT
PRODID:PEAK Corporation - piCal -
X-WR-CALNAME;VALUE=TEXT:ピースベル折り鶴を折る会
VERSION:2.0
METHOD:PUBLISH
BEGIN:VTIMEZONE
TZID:GMT
BEGIN:STANDARD
DTSTART:19390101T000000
TZOFFSETFROM:+0000
TZOFFSETTO:+0000
TZNAME:GMT
END:STANDARD
END:VTIMEZONE
BEGIN:VEVENT
DTSTART:20100823T010000Z
DTEND:20100823T030000Z
LOCATION:洞戸小坂・宇（そら）の家
TRANSP:OPAQUE
SEQUENCE:0
UID:pical060-5e0102d3a841f4b82a76ccdbb048d67a
DTSTAMP:20100823T153207Z
CATEGORIES:洞戸村ふるさと塾,ほらどまちづくり委員会,学習センター
DESCRIPTION:ピースベルフェスティバル実行委員を中心に折り鶴を折る会を開催します。\n主旨に賛同頂きご協力いただける方はまちづくり委員会（５８−２１１５）へご連絡下さい
SUMMARY:ピースベル折り鶴を折る会
PRIORITY:0
CLASS:PUBLIC
END:VEVENT
END:VCALENDAR
