BEGIN:VCALENDAR
CALSCALE:GREGORIAN
X-WR-TIMEZONE;VALUE=TEXT:GMT
PRODID:PEAK Corporation - piCal -
X-WR-CALNAME;VALUE=TEXT:関にし秋の祭典
VERSION:2.0
METHOD:PUBLISH
BEGIN:VTIMEZONE
TZID:GMT
BEGIN:STANDARD
DTSTART:19390101T000000
TZOFFSETFROM:+0000
TZOFFSETTO:+0000
TZNAME:GMT
END:STANDARD
END:VTIMEZONE
BEGIN:VEVENT
DTSTART;VALUE=DATE:20101106
DTEND;VALUE=DATE:20101107
LOCATION:洞戸生涯学習センター駐車場
TRANSP:OPAQUE
SEQUENCE:0
UID:pical060-29bb93d2e0bd61e26d83acdd20d473a3
DTSTAMP:20100823T154039Z
CATEGORIES:ほらどまちづくり委員会,学習センター
DESCRIPTION:
SUMMARY:関にし秋の祭典
PRIORITY:0
CLASS:PUBLIC
END:VEVENT
END:VCALENDAR
