BEGIN:VCALENDAR
CALSCALE:GREGORIAN
X-WR-TIMEZONE;VALUE=TEXT:GMT
PRODID:PEAK Corporation - piCal -
X-WR-CALNAME;VALUE=TEXT:郷土展望会（講師：太田圭司氏）
VERSION:2.0
METHOD:PUBLISH
BEGIN:VTIMEZONE
TZID:GMT
BEGIN:STANDARD
DTSTART:19390101T000000
TZOFFSETFROM:+0000
TZOFFSETTO:+0000
TZNAME:GMT
END:STANDARD
END:VTIMEZONE
BEGIN:VEVENT
DTSTART:20101211T103000Z
DTEND:20101211T113000Z
LOCATION:洞戸生涯学習センター
TRANSP:OPAQUE
SEQUENCE:0
UID:pical060-70e91c88becc76cd3741799708de66df
DTSTAMP:20100823T160028Z
CATEGORIES:洞戸村ふるさと塾,ほらどまちづくり委員会,学習センター
DESCRIPTION:
SUMMARY:郷土展望会（講師：太田圭司氏）
PRIORITY:0
CLASS:PUBLIC
END:VEVENT
END:VCALENDAR
