BEGIN:VCALENDAR
CALSCALE:GREGORIAN
X-WR-TIMEZONE;VALUE=TEXT:GMT
PRODID:PEAK Corporation - piCal -
X-WR-CALNAME;VALUE=TEXT:福祉委員研修会
VERSION:2.0
METHOD:PUBLISH
BEGIN:VTIMEZONE
TZID:GMT
BEGIN:STANDARD
DTSTART:19390101T000000
TZOFFSETFROM:+0000
TZOFFSETTO:+0000
TZNAME:GMT
END:STANDARD
END:VTIMEZONE
BEGIN:VEVENT
DTSTART:20100915T100000Z
DTEND:20100915T120000Z
LOCATION:洞戸老人福祉センター
TRANSP:OPAQUE
SEQUENCE:2
UID:pical060-e0945abf6daf652d27a1e18824b13d75
DTSTAMP:20100905T134031Z
CATEGORIES:社協　洞戸支部
DESCRIPTION:?認知症サポート養成講座\n?平成22年度前期見守り活動の報告\n?その他
SUMMARY:福祉委員研修会
PRIORITY:0
CLASS:PUBLIC
END:VEVENT
END:VCALENDAR
