BEGIN:VCALENDAR
CALSCALE:GREGORIAN
X-WR-TIMEZONE;VALUE=TEXT:GMT
PRODID:PEAK Corporation - piCal -
X-WR-CALNAME;VALUE=TEXT:洞戸地域福祉活動計画策定と第6回役員会
VERSION:2.0
METHOD:PUBLISH
BEGIN:VTIMEZONE
TZID:GMT
BEGIN:STANDARD
DTSTART:19390101T000000
TZOFFSETFROM:+0000
TZOFFSETTO:+0000
TZNAME:GMT
END:STANDARD
END:VTIMEZONE
BEGIN:VEVENT
DTSTART:20100929T103000Z
DTEND:20100929T123000Z
LOCATION:洞戸基幹集落センター・第3会議室
TRANSP:OPAQUE
SEQUENCE:0
UID:pical060-7a82ab535cfe9e6fb69cbe89a159eeb1
DTSTAMP:20100919T021334Z
CATEGORIES:社協　洞戸支部
DESCRIPTION:・9月3日の地域福祉懇談会テーマの集約\n・集約に基づく活動計画策定\n・その他
SUMMARY:洞戸地域福祉活動計画策定と第6回役員会
PRIORITY:0
CLASS:PUBLIC
END:VEVENT
END:VCALENDAR
