BEGIN:VCALENDAR
CALSCALE:GREGORIAN
X-WR-TIMEZONE;VALUE=TEXT:GMT
PRODID:PEAK Corporation - piCal -
X-WR-CALNAME;VALUE=TEXT:健康講座
VERSION:2.0
METHOD:PUBLISH
BEGIN:VTIMEZONE
TZID:GMT
BEGIN:STANDARD
DTSTART:19390101T000000
TZOFFSETFROM:+0000
TZOFFSETTO:+0000
TZNAME:GMT
END:STANDARD
END:VTIMEZONE
BEGIN:VEVENT
DTSTART:20101007T043000Z
DTEND:20101007T063000Z
LOCATION:洞戸老人福祉センター
TRANSP:OPAQUE
SEQUENCE:2
UID:pical060-84420022bfe9201acdb8ef0f5537865a
DTSTAMP:20100926T054952Z
CATEGORIES:社協　洞戸支部
DESCRIPTION:・脳血管障害について\n　?リハビリーの観点から（理学療法士・天野暁文氏）\n　?予防の観点から（保健士・吉田きよみ氏）
SUMMARY:健康講座
PRIORITY:0
CLASS:PUBLIC
END:VEVENT
END:VCALENDAR
