BEGIN:VCALENDAR
CALSCALE:GREGORIAN
X-WR-TIMEZONE;VALUE=TEXT:GMT
PRODID:PEAK Corporation - piCal -
X-WR-CALNAME;VALUE=TEXT:関市連合音楽会（洞戸小4，5年参加）
VERSION:2.0
METHOD:PUBLISH
BEGIN:VTIMEZONE
TZID:GMT
BEGIN:STANDARD
DTSTART:19390101T000000
TZOFFSETFROM:+0000
TZOFFSETTO:+0000
TZNAME:GMT
END:STANDARD
END:VTIMEZONE
BEGIN:VEVENT
DTSTART:20101117T000000Z
DTEND:20101117T030000Z
LOCATION:関市文化会館
TRANSP:OPAQUE
SEQUENCE:0
UID:pical060-c8a77d0a510aef2d0ac6e7329210ee84
DTSTAMP:20100924T022210Z
CATEGORIES:
DESCRIPTION:今年は、インフルエンザもなく実施できそうです。ミネハハさんコンサートで歌った歌も入れて合唱奏を楽しんできます。
SUMMARY:関市連合音楽会（洞戸小4，5年参加）
PRIORITY:0
CLASS:PUBLIC
END:VEVENT
END:VCALENDAR
