BEGIN:VCALENDAR
CALSCALE:GREGORIAN
X-WR-TIMEZONE;VALUE=TEXT:GMT
PRODID:PEAK Corporation - piCal -
X-WR-CALNAME;VALUE=TEXT:洞戸中央テレビ組合　臨時総会
VERSION:2.0
METHOD:PUBLISH
BEGIN:VTIMEZONE
TZID:GMT
BEGIN:STANDARD
DTSTART:19390101T000000
TZOFFSETFROM:+0000
TZOFFSETTO:+0000
TZNAME:GMT
END:STANDARD
END:VTIMEZONE
BEGIN:VEVENT
DTSTART:20101008T103000Z
DTEND:20101008T111500Z
LOCATION:洞戸生涯学習センター
TRANSP:OPAQUE
SEQUENCE:0
UID:pical060-427df26f8bbbe63b81b92b57f6a61f1e
DTSTAMP:20101024T225617Z
CATEGORIES:
DESCRIPTION:・大野・小阪テレビ組合との吊線一束化の契約承認について\n後期、組合費・受信料の振替依頼書の配布　ほか\n
SUMMARY:洞戸中央テレビ組合　臨時総会
PRIORITY:0
CLASS:PUBLIC
END:VEVENT
END:VCALENDAR
