BEGIN:VCALENDAR
CALSCALE:GREGORIAN
X-WR-TIMEZONE;VALUE=TEXT:GMT
PRODID:PEAK Corporation - piCal -
X-WR-CALNAME;VALUE=TEXT:小中学校資源回収予備日
VERSION:2.0
METHOD:PUBLISH
BEGIN:VTIMEZONE
TZID:GMT
BEGIN:STANDARD
DTSTART:19390101T000000
TZOFFSETFROM:+0000
TZOFFSETTO:+0000
TZNAME:GMT
END:STANDARD
END:VTIMEZONE
BEGIN:VEVENT
DTSTART:20101113T233000Z
DTEND:20101114T010000Z
LOCATION:洞戸全般
TRANSP:OPAQUE
SEQUENCE:0
UID:pical060-dca85ba8ca0ef8c7fd1cef5422596f19
DTSTAMP:20101029T014601Z
CATEGORIES:学校関連（小中）
DESCRIPTION:
SUMMARY:小中学校資源回収予備日
PRIORITY:0
CLASS:PUBLIC
END:VEVENT
END:VCALENDAR
