BEGIN:VCALENDAR
CALSCALE:GREGORIAN
X-WR-TIMEZONE;VALUE=TEXT:GMT
PRODID:PEAK Corporation - piCal -
X-WR-CALNAME;VALUE=TEXT:洞戸小参観日、家庭教育学級講演会
VERSION:2.0
METHOD:PUBLISH
BEGIN:VTIMEZONE
TZID:GMT
BEGIN:STANDARD
DTSTART:19390101T000000
TZOFFSETFROM:+0000
TZOFFSETTO:+0000
TZNAME:GMT
END:STANDARD
END:VTIMEZONE
BEGIN:VEVENT
DTSTART:20101208T040000Z
DTEND:20101208T073000Z
LOCATION:洞戸小学校
TRANSP:OPAQUE
SEQUENCE:0
UID:pical060-53c50a523fefc1c0f84ea62dd7fb5261
DTSTAMP:20101111T043509Z
CATEGORIES:
DESCRIPTION:　講演者のご都合で、８日に変更になりました。名城大学の曽山和彦准教授が「伝わる言葉のかけ方〜親子のコミュニケーションづくりのヒント〜」という題で講演されます。著名な方なので、是非参加して下さい。お待ちしています。
SUMMARY:洞戸小参観日、家庭教育学級講演会
PRIORITY:0
CLASS:PUBLIC
END:VEVENT
END:VCALENDAR
