BEGIN:VCALENDAR
CALSCALE:GREGORIAN
X-WR-TIMEZONE;VALUE=TEXT:GMT
PRODID:PEAK Corporation - piCal -
X-WR-CALNAME;VALUE=TEXT:日常自立生活支援研修会
VERSION:2.0
METHOD:PUBLISH
BEGIN:VTIMEZONE
TZID:GMT
BEGIN:STANDARD
DTSTART:19390101T000000
TZOFFSETFROM:+0000
TZOFFSETTO:+0000
TZNAME:GMT
END:STANDARD
END:VTIMEZONE
BEGIN:VEVENT
DTSTART:20101215T043000Z
DTEND:20101215T062500Z
LOCATION:わかくさ・プラザ
TRANSP:OPAQUE
SEQUENCE:0
UID:pical060-d2722703b217e23d10d5989cb264099b
DTSTAMP:20101123T130537Z
CATEGORIES:
DESCRIPTION:社協・洞戸支部役員が研修を受講します。
SUMMARY:日常自立生活支援研修会
PRIORITY:0
CLASS:PUBLIC
END:VEVENT
END:VCALENDAR
