BEGIN:VCALENDAR
CALSCALE:GREGORIAN
X-WR-TIMEZONE;VALUE=TEXT:GMT
PRODID:PEAK Corporation - piCal -
X-WR-CALNAME;VALUE=TEXT:農協女性部
VERSION:2.0
METHOD:PUBLISH
BEGIN:VTIMEZONE
TZID:GMT
BEGIN:STANDARD
DTSTART:19390101T000000
TZOFFSETFROM:+0000
TZOFFSETTO:+0000
TZNAME:GMT
END:STANDARD
END:VTIMEZONE
BEGIN:VEVENT
DTSTART:20101124T000000Z
DTEND:20101124T080000Z
LOCATION:
TRANSP:OPAQUE
SEQUENCE:1
UID:pical060-3db094950e4c5945c7df9054b59b7d99
DTSTAMP:20101127T075627Z
CATEGORIES:
DESCRIPTION:ヨガ教室。日頃使わない筋肉を使ってみませんか。
SUMMARY:農協女性部
PRIORITY:0
CLASS:PUBLIC
END:VEVENT
END:VCALENDAR
