BEGIN:VCALENDAR
CALSCALE:GREGORIAN
X-WR-TIMEZONE;VALUE=TEXT:GMT
PRODID:PEAK Corporation - piCal -
X-WR-CALNAME;VALUE=TEXT:農協女性部フラワーアレンジメント
VERSION:2.0
METHOD:PUBLISH
BEGIN:VTIMEZONE
TZID:GMT
BEGIN:STANDARD
DTSTART:19390101T000000
TZOFFSETFROM:+0000
TZOFFSETTO:+0000
TZNAME:GMT
END:STANDARD
END:VTIMEZONE
BEGIN:VEVENT
DTSTART:20101226T040000Z
DTEND:20101226T060000Z
LOCATION:洞戸生涯学習センター
TRANSP:OPAQUE
SEQUENCE:4
UID:pical060-a018efa73be473d7f0d691c658b560ed
DTSTAMP:20101205T073830Z
CATEGORIES:
DESCRIPTION:フラワーアレンジメントを開催します。お正月用にいかがですか。600円の補助があります。
SUMMARY:農協女性部フラワーアレンジメント
PRIORITY:0
CLASS:PUBLIC
END:VEVENT
END:VCALENDAR
