BEGIN:VCALENDAR
CALSCALE:GREGORIAN
X-WR-TIMEZONE;VALUE=TEXT:GMT
PRODID:PEAK Corporation - piCal -
X-WR-CALNAME;VALUE=TEXT:食改協　乳幼児健診手伝い
VERSION:2.0
METHOD:PUBLISH
BEGIN:VTIMEZONE
TZID:GMT
BEGIN:STANDARD
DTSTART:19390101T000000
TZOFFSETFROM:+0000
TZOFFSETTO:+0000
TZNAME:GMT
END:STANDARD
END:VTIMEZONE
BEGIN:VEVENT
DTSTART:20101216T000000Z
DTEND:20101216T030000Z
LOCATION:洞戸保健センター
TRANSP:OPAQUE
SEQUENCE:0
UID:pical060-d6ac224b3b5ef4ae3b4fd198c3111a68
DTSTAMP:20101127T081518Z
CATEGORIES:
DESCRIPTION:乳幼児健診の時、離乳食作りのお手伝いをします。手伝える方、支部長まで連絡下さい。（12月15日まで）
SUMMARY:食改協　乳幼児健診手伝い
PRIORITY:0
CLASS:PUBLIC
END:VEVENT
END:VCALENDAR
