BEGIN:VCALENDAR
CALSCALE:GREGORIAN
X-WR-TIMEZONE;VALUE=TEXT:GMT
PRODID:PEAK Corporation - piCal -
X-WR-CALNAME;VALUE=TEXT:農協女性部　リーダー研修会
VERSION:2.0
METHOD:PUBLISH
BEGIN:VTIMEZONE
TZID:GMT
BEGIN:STANDARD
DTSTART:19390101T000000
TZOFFSETFROM:+0000
TZOFFSETTO:+0000
TZNAME:GMT
END:STANDARD
END:VTIMEZONE
BEGIN:VEVENT
DTSTART:20101202T232000Z
DTEND:20101203T080000Z
LOCATION:
TRANSP:OPAQUE
SEQUENCE:0
UID:pical060-5adacff790ef8dba3d34bd7edb4eb4a0
DTSTAMP:20101205T073542Z
CATEGORIES:
DESCRIPTION:参加者２名。恵那市で藤能の女性部の方と栗子餅作りを教えてもらいながら交流しました。
SUMMARY:農協女性部　リーダー研修会
PRIORITY:0
CLASS:PUBLIC
END:VEVENT
END:VCALENDAR
