BEGIN:VCALENDAR
CALSCALE:GREGORIAN
X-WR-TIMEZONE;VALUE=TEXT:GMT
PRODID:PEAK Corporation - piCal -
X-WR-CALNAME;VALUE=TEXT:学習センター休館
VERSION:2.0
METHOD:PUBLISH
BEGIN:VTIMEZONE
TZID:GMT
BEGIN:STANDARD
DTSTART:19390101T000000
TZOFFSETFROM:+0000
TZOFFSETTO:+0000
TZNAME:GMT
END:STANDARD
END:VTIMEZONE
BEGIN:VEVENT
DTSTART:20101213T000000Z
DTEND:20101213T080000Z
LOCATION:
TRANSP:OPAQUE
SEQUENCE:0
UID:pical060-fbff9c86a628ccf17bdc57ee865371bf
DTSTAMP:20101209T005658Z
CATEGORIES:学習センター
DESCRIPTION:
SUMMARY:学習センター休館
PRIORITY:0
CLASS:PUBLIC
END:VEVENT
END:VCALENDAR
