BEGIN:VCALENDAR
CALSCALE:GREGORIAN
X-WR-TIMEZONE;VALUE=TEXT:GMT
PRODID:PEAK Corporation - piCal -
X-WR-CALNAME;VALUE=TEXT:職員会
VERSION:2.0
METHOD:PUBLISH
BEGIN:VTIMEZONE
TZID:GMT
BEGIN:STANDARD
DTSTART:19390101T000000
TZOFFSETFROM:+0000
TZOFFSETTO:+0000
TZNAME:GMT
END:STANDARD
END:VTIMEZONE
BEGIN:VEVENT
DTSTART:20101216T103000Z
DTEND:20101216T123000Z
LOCATION:洞戸生涯学習センター
TRANSP:OPAQUE
SEQUENCE:0
UID:pical060-8afd4851ba9a89a076f695e87ac576b0
DTSTAMP:20101215T173300Z
CATEGORIES:学習センター,ネットサロン
DESCRIPTION:学習センター職員会です\n関係スタッフの皆さん　お越しください
SUMMARY:職員会
PRIORITY:0
CLASS:PUBLIC
END:VEVENT
END:VCALENDAR
