BEGIN:VCALENDAR
CALSCALE:GREGORIAN
X-WR-TIMEZONE;VALUE=TEXT:GMT
PRODID:PEAK Corporation - piCal -
X-WR-CALNAME;VALUE=TEXT:ふれあいいきいきサロン交流会
VERSION:2.0
METHOD:PUBLISH
BEGIN:VTIMEZONE
TZID:GMT
BEGIN:STANDARD
DTSTART:19390101T000000
TZOFFSETFROM:+0000
TZOFFSETTO:+0000
TZNAME:GMT
END:STANDARD
END:VTIMEZONE
BEGIN:VEVENT
DTSTART:20110323T010000Z
DTEND:20110323T060000Z
LOCATION:洞戸老人福祉センター
TRANSP:OPAQUE
SEQUENCE:1
UID:pical060-9cfe797a6a0adff8bd76a7a6dd1b0050
DTSTAMP:20110228T144522Z
CATEGORIES:社協　洞戸支部
DESCRIPTION:・開会　10:00〜\n・講話「防災について」\n　　　　　　　美濃消防署洞戸出張所長：青山　勝良氏\n・音楽療法　　音楽療法士：藤沢　玲子氏\n・昼食\n・アトラクション\n　　　　踊り　（洞戸文化協会：寿会）\n　　　　美濃にわか　他　（JAおひろめ隊）\nビンゴゲーム（全員に景品あり）\n閉会　15:00\n
SUMMARY:ふれあいいきいきサロン交流会
PRIORITY:0
CLASS:PUBLIC
END:VEVENT
END:VCALENDAR
