BEGIN:VCALENDAR
CALSCALE:GREGORIAN
X-WR-TIMEZONE;VALUE=TEXT:GMT
PRODID:PEAK Corporation - piCal -
X-WR-CALNAME;VALUE=TEXT:心の健康リレーフォーラム
VERSION:2.0
METHOD:PUBLISH
BEGIN:VTIMEZONE
TZID:GMT
BEGIN:STANDARD
DTSTART:19390101T000000
TZOFFSETFROM:+0000
TZOFFSETTO:+0000
TZNAME:GMT
END:STANDARD
END:VTIMEZONE
BEGIN:VEVENT
DTSTART:20110204T043000Z
DTEND:20110204T070000Z
LOCATION:わかくさ多目的ホール
TRANSP:OPAQUE
SEQUENCE:0
UID:pical060-5bbb9427fbf8ba751ac985d0ec180e90
DTSTAMP:20110126T061245Z
CATEGORIES:社協　洞戸支部
DESCRIPTION:出席予定者\n辻邦子・桑原美恵子・野村茂・椙田博之・船戸英司ほか
SUMMARY:心の健康リレーフォーラム
PRIORITY:0
CLASS:PUBLIC
END:VEVENT
END:VCALENDAR
