BEGIN:VCALENDAR
CALSCALE:GREGORIAN
X-WR-TIMEZONE;VALUE=TEXT:GMT
PRODID:PEAK Corporation - piCal -
X-WR-CALNAME;VALUE=TEXT:セキュリティ講座
VERSION:2.0
METHOD:PUBLISH
BEGIN:VTIMEZONE
TZID:GMT
BEGIN:STANDARD
DTSTART:19390101T000000
TZOFFSETFROM:+0000
TZOFFSETTO:+0000
TZNAME:GMT
END:STANDARD
END:VTIMEZONE
BEGIN:VEVENT
DTSTART:20110217T103000Z
DTEND:20110217T120000Z
LOCATION:洞戸ネットサロン
TRANSP:OPAQUE
SEQUENCE:0
UID:pical060-04a94d7484dc757aedbdcc66f24ce6f5
DTSTAMP:20110216T122311Z
CATEGORIES:学習センター,ネットサロン
DESCRIPTION:
SUMMARY:セキュリティ講座
PRIORITY:0
CLASS:PUBLIC
END:VEVENT
END:VCALENDAR
