BEGIN:VCALENDAR
CALSCALE:GREGORIAN
X-WR-TIMEZONE;VALUE=TEXT:GMT
PRODID:PEAK Corporation - piCal -
X-WR-CALNAME;VALUE=TEXT:塾定例会
VERSION:2.0
METHOD:PUBLISH
BEGIN:VTIMEZONE
TZID:GMT
BEGIN:STANDARD
DTSTART:19390101T000000
TZOFFSETFROM:+0000
TZOFFSETTO:+0000
TZNAME:GMT
END:STANDARD
END:VTIMEZONE
BEGIN:VEVENT
DTSTART:20110307T103000Z
DTEND:20110307T120000Z
LOCATION:洞戸生涯学習センター
TRANSP:OPAQUE
SEQUENCE:0
UID:pical060-6938efb91a051cb5b11a4f0e40620e25
DTSTAMP:20110216T122725Z
CATEGORIES:洞戸村ふるさと塾
DESCRIPTION:
SUMMARY:塾定例会
PRIORITY:0
CLASS:PUBLIC
END:VEVENT
END:VCALENDAR
