BEGIN:VCALENDAR
CALSCALE:GREGORIAN
X-WR-TIMEZONE;VALUE=TEXT:GMT
PRODID:PEAK Corporation - piCal -
X-WR-CALNAME;VALUE=TEXT:キウイ部会　誘引＆研修
VERSION:2.0
METHOD:PUBLISH
BEGIN:VTIMEZONE
TZID:GMT
BEGIN:STANDARD
DTSTART:19390101T000000
TZOFFSETFROM:+0000
TZOFFSETTO:+0000
TZNAME:GMT
END:STANDARD
END:VTIMEZONE
BEGIN:VEVENT
DTSTART;VALUE=DATE:20110313
DTEND;VALUE=DATE:20110314
LOCATION:塾キウイ研修場
TRANSP:OPAQUE
SEQUENCE:2
UID:pical060-628a48805d209ad421db32369533e2c2
DTSTAMP:20110313T120348Z
CATEGORIES:洞戸村ふるさと塾
DESCRIPTION:
SUMMARY:キウイ部会　誘引＆研修
PRIORITY:0
CLASS:PUBLIC
END:VEVENT
END:VCALENDAR
