BEGIN:VCALENDAR
CALSCALE:GREGORIAN
X-WR-TIMEZONE;VALUE=TEXT:GMT
PRODID:PEAK Corporation - piCal -
X-WR-CALNAME;VALUE=TEXT:職員会
VERSION:2.0
METHOD:PUBLISH
BEGIN:VTIMEZONE
TZID:GMT
BEGIN:STANDARD
DTSTART:19390101T000000
TZOFFSETFROM:+0000
TZOFFSETTO:+0000
TZNAME:GMT
END:STANDARD
END:VTIMEZONE
BEGIN:VEVENT
DTSTART:20110317T103000Z
DTEND:20110317T113000Z
LOCATION:洞戸生涯学習センター
TRANSP:OPAQUE
SEQUENCE:1
UID:pical060-c6ad9c71585b87e54fb7a2b5fb0787b7
DTSTAMP:20110220T120723Z
CATEGORIES:ほらどまちづくり委員会,学習センター
DESCRIPTION:
SUMMARY:職員会
PRIORITY:0
CLASS:PUBLIC
END:VEVENT
END:VCALENDAR
