BEGIN:VCALENDAR
CALSCALE:GREGORIAN
X-WR-TIMEZONE;VALUE=TEXT:GMT
PRODID:PEAK Corporation - piCal -
X-WR-CALNAME;VALUE=TEXT:サロン）インターネット講座
VERSION:2.0
METHOD:PUBLISH
BEGIN:VTIMEZONE
TZID:GMT
BEGIN:STANDARD
DTSTART:19390101T000000
TZOFFSETFROM:+0000
TZOFFSETTO:+0000
TZNAME:GMT
END:STANDARD
END:VTIMEZONE
BEGIN:VEVENT
DTSTART:20110310T103000Z
DTEND:20110310T120000Z
LOCATION:洞戸生涯学習センター
TRANSP:OPAQUE
SEQUENCE:1
UID:pical060-e1488372f2ca960e3ec24bfb843fcb8b
DTSTAMP:20110221T021758Z
CATEGORIES:ほらどまちづくり委員会,学習センター,ネットサロン
DESCRIPTION:<b>「インターネットで何ができるの？」</b>\n\nインターネットを使ってみたいけど、どんなことが出来るのかがわからない・・・と躊躇している方のために、数々の利用方法をご紹介します。\n\n＜講師＞　後藤　徹（洞戸ネットサロン講師）\n＜場所＞　洞戸生涯学習センター　ネットサロン室\n＜受講料＞　５００円　
SUMMARY:サロン）インターネット講座
PRIORITY:0
CLASS:PUBLIC
END:VEVENT
END:VCALENDAR
