BEGIN:VCALENDAR
CALSCALE:GREGORIAN
X-WR-TIMEZONE;VALUE=TEXT:GMT
PRODID:PEAK Corporation - piCal -
X-WR-CALNAME;VALUE=TEXT:サロン）初めてのパソコン操作
VERSION:2.0
METHOD:PUBLISH
BEGIN:VTIMEZONE
TZID:Etc/GMT-9
BEGIN:STANDARD
DTSTART:19390101T000000
TZOFFSETFROM:+0900
TZOFFSETTO:+0900
TZNAME:Etc/GMT-9
END:STANDARD
END:VTIMEZONE
BEGIN:VEVENT
DTSTART;TZID=Etc/GMT-9:20110409T100000
DTEND;TZID=Etc/GMT-9:20110409T210000
LOCATION:洞戸ネットサロン
TRANSP:OPAQUE
SEQUENCE:5
UID:pical060-800e11fb998aeba6ad9a0f142a799210
DTSTAMP:20110221T022819Z
CATEGORIES:
DESCRIPTION:<b>初めてのパソコン操作</b>\n\n初めてパソコンを操作される方のために、電源の入れ方からマウス操作等を練習します。\n\n時間は　午前の部　１０:００〜１１：３０\n　　　　　午後の部　１３:３０〜１５：００\n　　　　　夜の部　　１９:３０〜２１：００\n上記の時間帯で貴方のお好きな時間をお選びください。\n締切は　３月７日
SUMMARY:サロン）初めてのパソコン操作
RRULE:FREQ=WEEKLY;INTERVAL=1;BYDAY=SA;COUNT=3;WKST=SU
PRIORITY:0
CLASS:PUBLIC
END:VEVENT
END:VCALENDAR
