BEGIN:VCALENDAR
CALSCALE:GREGORIAN
X-WR-TIMEZONE;VALUE=TEXT:GMT
PRODID:PEAK Corporation - piCal -
X-WR-CALNAME;VALUE=TEXT:サロン）初めてのパソコン操作
VERSION:2.0
METHOD:PUBLISH
BEGIN:VTIMEZONE
TZID:Etc/GMT-9
BEGIN:STANDARD
DTSTART:19390101T000000
TZOFFSETFROM:+0900
TZOFFSETTO:+0900
TZNAME:Etc/GMT-9
END:STANDARD
END:VTIMEZONE
BEGIN:VEVENT
DTSTART;TZID=Etc/GMT-9:20110410T100000
DTEND;TZID=Etc/GMT-9:20110410T153000
LOCATION:洞戸ネットサロン
TRANSP:OPAQUE
SEQUENCE:5
UID:pical060-8f074c1cbdeb73cb2b033cdd06dc228d
DTSTAMP:20110220T121806Z
CATEGORIES:
DESCRIPTION:
SUMMARY:サロン）初めてのパソコン操作
RRULE:FREQ=WEEKLY;INTERVAL=1;BYDAY=SU;COUNT=3;WKST=SU
PRIORITY:0
CLASS:PUBLIC
END:VEVENT
END:VCALENDAR
