BEGIN:VCALENDAR
CALSCALE:GREGORIAN
X-WR-TIMEZONE;VALUE=TEXT:GMT
PRODID:PEAK Corporation - piCal -
X-WR-CALNAME;VALUE=TEXT:(サロン）初めてのパソコン操作講座締切日
VERSION:2.0
METHOD:PUBLISH
BEGIN:VTIMEZONE
TZID:GMT
BEGIN:STANDARD
DTSTART:19390101T000000
TZOFFSETFROM:+0000
TZOFFSETTO:+0000
TZNAME:GMT
END:STANDARD
END:VTIMEZONE
BEGIN:VEVENT
DTSTART;VALUE=DATE:20110407
DTEND;VALUE=DATE:20110408
LOCATION:洞戸ネットサロン
TRANSP:OPAQUE
SEQUENCE:1
UID:pical060-9578c70fc3b52c1be01d800bb633cc80
DTSTAMP:20110221T023303Z
CATEGORIES:ほらどまちづくり委員会,学習センター,ネットサロン
DESCRIPTION:４月９・１０・１６・１７・２３・２４日に開講される「初めてのパソコン講座」受講締切日\n\n時　間　午前　１０：００〜１１：３０\n　　　　　午後　１３：３０〜１５：００\n　　　　　夜間　１９：３０〜２１：００\n\n受講料　　１回　５００円\n\n上記いずれの時に何回来て頂いても結構です。\nご予約だけ忘れずに。\n
SUMMARY:(サロン）初めてのパソコン操作講座締切日
PRIORITY:0
CLASS:PUBLIC
END:VEVENT
END:VCALENDAR
