BEGIN:VCALENDAR
CALSCALE:GREGORIAN
X-WR-TIMEZONE;VALUE=TEXT:GMT
PRODID:PEAK Corporation - piCal -
X-WR-CALNAME;VALUE=TEXT:KSC理事会
VERSION:2.0
METHOD:PUBLISH
BEGIN:VTIMEZONE
TZID:GMT
BEGIN:STANDARD
DTSTART:19390101T000000
TZOFFSETFROM:+0000
TZOFFSETTO:+0000
TZNAME:GMT
END:STANDARD
END:VTIMEZONE
BEGIN:VEVENT
DTSTART:20110319T103000Z
DTEND:20110319T120000Z
LOCATION:洞戸運動公園管理棟
TRANSP:OPAQUE
SEQUENCE:1
UID:pical060-f8d9447bfb5789fa3f3ae34b5e537643
DTSTAMP:20110302T161959Z
CATEGORIES:キウイスポーツクラブ
DESCRIPTION:３月定例理事会\n\n事業計画・事業予算を作成しますので、担当理事は詳細をご持参下さい。
SUMMARY:KSC理事会
PRIORITY:0
CLASS:PUBLIC
END:VEVENT
END:VCALENDAR
