BEGIN:VCALENDAR
CALSCALE:GREGORIAN
X-WR-TIMEZONE;VALUE=TEXT:GMT
PRODID:PEAK Corporation - piCal -
X-WR-CALNAME;VALUE=TEXT:第１２回　郷土展望講演会
VERSION:2.0
METHOD:PUBLISH
BEGIN:VTIMEZONE
TZID:GMT
BEGIN:STANDARD
DTSTART:19390101T000000
TZOFFSETFROM:+0000
TZOFFSETTO:+0000
TZNAME:GMT
END:STANDARD
END:VTIMEZONE
BEGIN:VEVENT
DTSTART:20110305T103000Z
DTEND:20110305T113000Z
LOCATION:洞戸生涯学習センター
TRANSP:OPAQUE
SEQUENCE:0
UID:pical060-a5ca48e55984c947f81b21b71a9289fd
DTSTAMP:20110221T142255Z
CATEGORIES:洞戸村ふるさと塾,学校関連（小中）,ほらどまちづくり委員会,学習センター
DESCRIPTION:洞戸中学校１年生の生徒さんが“ふるさと学習”で勉強された洞戸の高賀森水と森林学習を通して思ったことを「ほら どお？ 洞戸」と題して発表してくれます。\n\n今年度の郷土展望会を通して皆さんが思ったこと感じたことなどを共有しあって楽しい会にしたいと思います。
SUMMARY:第１２回　郷土展望講演会
PRIORITY:0
CLASS:PUBLIC
END:VEVENT
END:VCALENDAR
