BEGIN:VCALENDAR
CALSCALE:GREGORIAN
X-WR-TIMEZONE;VALUE=TEXT:GMT
PRODID:PEAK Corporation - piCal -
X-WR-CALNAME;VALUE=TEXT:サロン室模様替え
VERSION:2.0
METHOD:PUBLISH
BEGIN:VTIMEZONE
TZID:GMT
BEGIN:STANDARD
DTSTART:19390101T000000
TZOFFSETFROM:+0000
TZOFFSETTO:+0000
TZNAME:GMT
END:STANDARD
END:VTIMEZONE
BEGIN:VEVENT
DTSTART:20110403T000000Z
DTEND:20110403T030000Z
LOCATION:洞戸ネットサロン室
TRANSP:OPAQUE
SEQUENCE:0
UID:pical060-1275e1510b1f34aca0acc02a029ba479
DTSTAMP:20110224T015514Z
CATEGORIES:学習センター,ネットサロン
DESCRIPTION:
SUMMARY:サロン室模様替え
PRIORITY:0
CLASS:PUBLIC
END:VEVENT
END:VCALENDAR
