BEGIN:VCALENDAR
CALSCALE:GREGORIAN
X-WR-TIMEZONE;VALUE=TEXT:GMT
PRODID:PEAK Corporation - piCal -
X-WR-CALNAME;VALUE=TEXT:広報部会会議
VERSION:2.0
METHOD:PUBLISH
BEGIN:VTIMEZONE
TZID:GMT
BEGIN:STANDARD
DTSTART:19390101T000000
TZOFFSETFROM:+0000
TZOFFSETTO:+0000
TZNAME:GMT
END:STANDARD
END:VTIMEZONE
BEGIN:VEVENT
DTSTART:20110308T103000Z
DTEND:20110308T113000Z
LOCATION:洞戸生涯学習センター
TRANSP:OPAQUE
SEQUENCE:1
UID:pical060-43f407d87e6d685944520e5fa3e0e276
DTSTAMP:20110302T161541Z
CATEGORIES:社協　洞戸支部,洞戸村ふるさと塾,ほらどまちづくり委員会,キウイスポーツクラブ,学習センター
DESCRIPTION:?23年度第1号発行までの流れ\n?23年度発行予定\n?企業協賛の件\n?他団体の参入の件\n?制作費負担金の件
SUMMARY:広報部会会議
PRIORITY:0
CLASS:PUBLIC
END:VEVENT
END:VCALENDAR
