BEGIN:VCALENDAR
CALSCALE:GREGORIAN
X-WR-TIMEZONE;VALUE=TEXT:GMT
PRODID:PEAK Corporation - piCal -
X-WR-CALNAME;VALUE=TEXT:KSC)Jr.育成協議会
VERSION:2.0
METHOD:PUBLISH
BEGIN:VTIMEZONE
TZID:GMT
BEGIN:STANDARD
DTSTART:19390101T000000
TZOFFSETFROM:+0000
TZOFFSETTO:+0000
TZNAME:GMT
END:STANDARD
END:VTIMEZONE
BEGIN:VEVENT
DTSTART:20110312T103000Z
DTEND:20110312T123000Z
LOCATION:洞戸運動公園管理棟
TRANSP:OPAQUE
SEQUENCE:0
UID:pical060-2c2edf417e373fbde8d60867ec684b86
DTSTAMP:20110302T161925Z
CATEGORIES:キウイスポーツクラブ,関市洞戸運動公園
DESCRIPTION:新旧育成会長出席\n・22年度指導者出席簿（後期）持参
SUMMARY:KSC)Jr.育成協議会
PRIORITY:0
CLASS:PUBLIC
END:VEVENT
END:VCALENDAR
