BEGIN:VCALENDAR
CALSCALE:GREGORIAN
X-WR-TIMEZONE;VALUE=TEXT:GMT
PRODID:PEAK Corporation - piCal -
X-WR-CALNAME;VALUE=TEXT:KSC）ジュニア体操教室（体験）
VERSION:2.0
METHOD:PUBLISH
BEGIN:VTIMEZONE
TZID:GMT
BEGIN:STANDARD
DTSTART:19390101T000000
TZOFFSETFROM:+0000
TZOFFSETTO:+0000
TZNAME:GMT
END:STANDARD
END:VTIMEZONE
BEGIN:VEVENT
DTSTART:20110318T080000Z
DTEND:20110318T110000Z
LOCATION:関市立洞戸小学校
TRANSP:OPAQUE
SEQUENCE:0
UID:pical060-5c8dbcde168b6c247614e27207657bb1
DTSTAMP:20110302T163039Z
CATEGORIES:
DESCRIPTION:4月よりKSCジュニア体操教室を開講します。\nその前の体験教室を開催。新年少児〜小学校低学年までならどなたでもご参加できます。無料。参加申し込みはいりません。\n\n保育園新年少クラス・・・・17:00〜17:50\n保育園新年中・長クラス・・18:00〜18:50\n小学校低学年クラス・・・・19:00〜19:50\n\n運動が出来る格好でお越し下さい。\n体育館で使用する上履きをご持参下さい。\n
SUMMARY:KSC）ジュニア体操教室（体験）
PRIORITY:0
CLASS:PUBLIC
END:VEVENT
END:VCALENDAR
