BEGIN:VCALENDAR
CALSCALE:GREGORIAN
X-WR-TIMEZONE;VALUE=TEXT:GMT
PRODID:PEAK Corporation - piCal -
X-WR-CALNAME;VALUE=TEXT:まちづくり委員会執行部
VERSION:2.0
METHOD:PUBLISH
BEGIN:VTIMEZONE
TZID:GMT
BEGIN:STANDARD
DTSTART:19390101T000000
TZOFFSETFROM:+0000
TZOFFSETTO:+0000
TZNAME:GMT
END:STANDARD
END:VTIMEZONE
BEGIN:VEVENT
DTSTART:20110309T100000Z
DTEND:20110309T120000Z
LOCATION:洞戸生涯学習センター
TRANSP:OPAQUE
SEQUENCE:0
UID:pical060-3410788d340738d9d419b5b9659d03dc
DTSTAMP:20110305T172736Z
CATEGORIES:ほらどまちづくり委員会
DESCRIPTION:
SUMMARY:まちづくり委員会執行部
PRIORITY:0
CLASS:PUBLIC
END:VEVENT
END:VCALENDAR
