BEGIN:VCALENDAR
CALSCALE:GREGORIAN
X-WR-TIMEZONE;VALUE=TEXT:GMT
PRODID:PEAK Corporation - piCal -
X-WR-CALNAME;VALUE=TEXT:自治連洞戸支部体育部長会議
VERSION:2.0
METHOD:PUBLISH
BEGIN:VTIMEZONE
TZID:GMT
BEGIN:STANDARD
DTSTART:19390101T000000
TZOFFSETFROM:+0000
TZOFFSETTO:+0000
TZNAME:GMT
END:STANDARD
END:VTIMEZONE
BEGIN:VEVENT
DTSTART:20110416T100000Z
DTEND:20110416T120000Z
LOCATION:洞戸生涯学習センター
TRANSP:OPAQUE
SEQUENCE:0
UID:pical060-4fc1895607319e07dd3a12ec14093a64
DTSTAMP:20110330T125105Z
CATEGORIES:ほらどまちづくり委員会,キウイスポーツクラブ,学習センター
DESCRIPTION:自治会洞戸支部の各地区体育部長による２３年度の事業予定の説明会。
SUMMARY:自治連洞戸支部体育部長会議
PRIORITY:0
CLASS:PUBLIC
END:VEVENT
END:VCALENDAR
