BEGIN:VCALENDAR
CALSCALE:GREGORIAN
X-WR-TIMEZONE;VALUE=TEXT:GMT
PRODID:PEAK Corporation - piCal -
X-WR-CALNAME;VALUE=TEXT:まちづくり委員会総会
VERSION:2.0
METHOD:PUBLISH
BEGIN:VTIMEZONE
TZID:GMT
BEGIN:STANDARD
DTSTART:19390101T000000
TZOFFSETFROM:+0000
TZOFFSETTO:+0000
TZNAME:GMT
END:STANDARD
END:VTIMEZONE
BEGIN:VEVENT
DTSTART;VALUE=DATE:20110425
DTEND;VALUE=DATE:20110426
LOCATION:洞戸生涯学習センター
TRANSP:OPAQUE
SEQUENCE:1
UID:pical060-a3f5ef6796ea5ce9133f626cf4ef599d
DTSTAMP:20110330T125400Z
CATEGORIES:ほらどまちづくり委員会,学習センター
DESCRIPTION:
SUMMARY:まちづくり委員会総会
PRIORITY:0
CLASS:PUBLIC
END:VEVENT
END:VCALENDAR
