BEGIN:VCALENDAR
CALSCALE:GREGORIAN
X-WR-TIMEZONE;VALUE=TEXT:GMT
PRODID:PEAK Corporation - piCal -
X-WR-CALNAME;VALUE=TEXT:洞戸村ふるさと塾　理事会
VERSION:2.0
METHOD:PUBLISH
BEGIN:VTIMEZONE
TZID:GMT
BEGIN:STANDARD
DTSTART:19390101T000000
TZOFFSETFROM:+0000
TZOFFSETTO:+0000
TZNAME:GMT
END:STANDARD
END:VTIMEZONE
BEGIN:VEVENT
DTSTART:20110327T103000Z
DTEND:20110327T123000Z
LOCATION:洞戸生涯学習センター
TRANSP:OPAQUE
SEQUENCE:0
UID:pical060-41c4ce0dd6c0f325f8a1f4d24a2e06c5
DTSTAMP:20110330T125839Z
CATEGORIES:
DESCRIPTION:
SUMMARY:洞戸村ふるさと塾　理事会
PRIORITY:0
CLASS:PUBLIC
END:VEVENT
END:VCALENDAR
