BEGIN:VCALENDAR
CALSCALE:GREGORIAN
X-WR-TIMEZONE;VALUE=TEXT:GMT
PRODID:PEAK Corporation - piCal -
X-WR-CALNAME;VALUE=TEXT:食改協総会
VERSION:2.0
METHOD:PUBLISH
BEGIN:VTIMEZONE
TZID:GMT
BEGIN:STANDARD
DTSTART:19390101T000000
TZOFFSETFROM:+0000
TZOFFSETTO:+0000
TZNAME:GMT
END:STANDARD
END:VTIMEZONE
BEGIN:VEVENT
DTSTART:20110413T000000Z
DTEND:20110413T030000Z
LOCATION:洞戸生涯学習センター集会室
TRANSP:OPAQUE
SEQUENCE:0
UID:pical060-1a8d521573ce72193de55854fd6e29e7
DTSTAMP:20110331T011848Z
CATEGORIES:
DESCRIPTION:食改協の23年度総会のお知らせ\n9時より総会を始め終わり次第調理室の大掃除をします。食事があるので出席される方は各地区委員にお知らせください。議題　22年度活動報告、収支報告23年度活動計画、予算計画、県食改及び関市食改の組織について、その他
SUMMARY:食改協総会
PRIORITY:0
CLASS:PUBLIC
END:VEVENT
END:VCALENDAR
