BEGIN:VCALENDAR
CALSCALE:GREGORIAN
X-WR-TIMEZONE;VALUE=TEXT:GMT
PRODID:PEAK Corporation - piCal -
X-WR-CALNAME;VALUE=TEXT:洞戸小学校始業式、入学式
VERSION:2.0
METHOD:PUBLISH
BEGIN:VTIMEZONE
TZID:GMT
BEGIN:STANDARD
DTSTART:19390101T000000
TZOFFSETFROM:+0000
TZOFFSETTO:+0000
TZNAME:GMT
END:STANDARD
END:VTIMEZONE
BEGIN:VEVENT
DTSTART:20110406T000000Z
DTEND:20110406T020000Z
LOCATION:洞戸小学校
TRANSP:OPAQUE
SEQUENCE:0
UID:pical060-0c52d9d1c256bf7ff28b073c494302e8
DTSTAMP:20110406T070845Z
CATEGORIES:
DESCRIPTION:今年度は、１７名の新入生です。元気な子ばかりで、感心しています。
SUMMARY:洞戸小学校始業式、入学式
PRIORITY:0
CLASS:PUBLIC
END:VEVENT
END:VCALENDAR
